BEGIN:VCALENDAR
VERSION:2.0
PRODID:-//WCSMA - ECPv6.2.1//NONSGML v1.0//EN
CALSCALE:GREGORIAN
METHOD:PUBLISH
X-WR-CALNAME:WCSMA
X-ORIGINAL-URL:http://wcsma.org/new
X-WR-CALDESC:Events for WCSMA
REFRESH-INTERVAL;VALUE=DURATION:PT1H
X-Robots-Tag:noindex
X-PUBLISHED-TTL:PT1H
BEGIN:VTIMEZONE
TZID:UTC
BEGIN:STANDARD
TZOFFSETFROM:+0000
TZOFFSETTO:+0000
TZNAME:UTC
DTSTART:20260101T000000
END:STANDARD
END:VTIMEZONE
BEGIN:VEVENT
DTSTART;TZID=UTC:20260424T160000
DTEND;TZID=UTC:20260425T170000
DTSTAMP:20260424T020910
CREATED:20230906T010955Z
LAST-MODIFIED:20250907T233623Z
UID:6259-1777046400-1777136400@wcsma.org
SUMMARY:NYSSMA I-IV Strings Festival\, including All Levels Harp and Classical Guitar
DESCRIPTION:Strings I-IV Festival\, including All Levels Harp and Classical Guitar\nApril 24-25\, 2026\nSpringhurst Elementary School\nDobbs Ferry\nDavid Hertzberg & Paul Huneke\, hosts
URL:http://wcsma.org/new/event/nyssma-i-iv-strings-festival/
LOCATION:Springhurst Elementary School\, 175 Walgrove Ave\, Dobbs Ferry\, NY\, 10522
CATEGORIES:NYSSMA - Strings Festival
ATTACH;FMTTYPE=image/png:http://wcsma.org/new/wp-content/uploads/2023/09/NYSSMA-LOGO-1.png
END:VEVENT
END:VCALENDAR